Package: PECA Version: 1.40.0 Command: rm -rf PECA.buildbin-libdir && mkdir PECA.buildbin-libdir && /Users/biocbuild/BBS/utils/build-universal.sh PECA_1.40.0.tar.gz /Library/Frameworks/R.framework/Resources/bin/R PECA.buildbin-libdir StartedAt: 2024-06-10 00:31:49 -0400 (Mon, 10 Jun 2024) EndedAt: 2024-06-10 00:32:19 -0400 (Mon, 10 Jun 2024) EllapsedTime: 29.7 seconds RetCode: 0 Status: OK PackageFile: PECA_1.40.0.tgz PackageFileSize: 223.1 KiB