Package: PDATK Version: 1.12.0 Command: chmod a+r PDATK -R && E:\biocbuild\bbs-3.19-bioc\R\bin\R.exe CMD build --keep-empty-dirs --no-resave-data PDATK StartedAt: 2024-10-16 20:59:38 -0400 (Wed, 16 Oct 2024) EndedAt: 2024-10-16 21:09:46 -0400 (Wed, 16 Oct 2024) EllapsedTime: 608.3 seconds RetCode: 0 Status: OK PackageFile: PDATK_1.12.0.tar.gz PackageFileSize: 1.677 MiB