Package: PDATK Version: 1.12.0 Command: /Library/Frameworks/R.framework/Resources/bin/R CMD INSTALL PDATK StartedAt: 2024-10-16 16:53:22 -0400 (Wed, 16 Oct 2024) EndedAt: 2024-10-16 16:54:37 -0400 (Wed, 16 Oct 2024) EllapsedTime: 75.6 seconds RetCode: 0 Status: OK