Package: PDATK Version: 1.12.0 Command: /Library/Frameworks/R.framework/Resources/bin/R CMD build --keep-empty-dirs --no-resave-data PDATK StartedAt: 2024-10-16 21:58:52 -0400 (Wed, 16 Oct 2024) EndedAt: 2024-10-16 22:04:03 -0400 (Wed, 16 Oct 2024) EllapsedTime: 310.9 seconds RetCode: 0 Status: OK PackageFile: PDATK_1.12.0.tar.gz PackageFileSize: 3.004 MiB