Package: PDATK Version: 1.12.0 Command: /Library/Frameworks/R.framework/Resources/bin/R CMD INSTALL PDATK StartedAt: 2024-06-09 15:44:19 -0400 (Sun, 09 Jun 2024) EndedAt: 2024-06-09 15:45:06 -0400 (Sun, 09 Jun 2024) EllapsedTime: 46.6 seconds RetCode: 0 Status: OK