Package: PDATK Version: 1.12.0 Command: /Library/Frameworks/R.framework/Resources/bin/R CMD check --install=check:PDATK.install-out.txt --library=/Library/Frameworks/R.framework/Resources/library --no-vignettes --timings PDATK_1.12.0.tar.gz StartedAt: 2024-06-09 22:09:08 -0400 (Sun, 09 Jun 2024) EndedAt: 2024-06-09 22:15:06 -0400 (Sun, 09 Jun 2024) EllapsedTime: 358.6 seconds RetCode: 0 Status: WARNINGS CheckDir: PDATK.Rcheck Warnings: 2