Package: PDATK Version: 1.12.0 Command: /Library/Frameworks/R.framework/Resources/bin/R CMD build --keep-empty-dirs --no-resave-data PDATK StartedAt: 2024-06-09 17:41:18 -0400 (Sun, 09 Jun 2024) EndedAt: 2024-06-09 17:43:37 -0400 (Sun, 09 Jun 2024) EllapsedTime: 139.0 seconds RetCode: 0 Status: OK PackageFile: PDATK_1.12.0.tar.gz PackageFileSize: 3.004 MiB