Package: PDATK Version: 1.12.0 Command: /home/biocbuild/R/R-beta-2024-04-15_r86425/bin/R CMD build --keep-empty-dirs --no-resave-data PDATK StartedAt: 2024-05-09 02:26:45 -0000 (Thu, 09 May 2024) EndedAt: 2024-05-09 02:29:14 -0000 (Thu, 09 May 2024) EllapsedTime: 149.2 seconds RetCode: 0 Status: OK PackageFile: PDATK_1.12.0.tar.gz PackageFileSize: 1.934 MiB