Package: PDATK Version: 1.12.0 Command: /Library/Frameworks/R.framework/Resources/bin/R CMD check --install=check:PDATK.install-out.txt --library=/Library/Frameworks/R.framework/Resources/library --no-vignettes --timings PDATK_1.12.0.tar.gz StartedAt: 2024-10-18 07:09:52 -0400 (Fri, 18 Oct 2024) EndedAt: 2024-10-18 07:16:21 -0400 (Fri, 18 Oct 2024) EllapsedTime: 389.2 seconds RetCode: 0 Status: WARNINGS CheckDir: PDATK.Rcheck Warnings: 2