Package: PDATK Version: 1.12.0 Command: /Library/Frameworks/R.framework/Resources/bin/R CMD build --keep-empty-dirs --no-resave-data PDATK StartedAt: 2024-10-17 06:16:48 -0400 (Thu, 17 Oct 2024) EndedAt: 2024-10-17 06:19:06 -0400 (Thu, 17 Oct 2024) EllapsedTime: 138.2 seconds RetCode: 0 Status: OK PackageFile: PDATK_1.12.0.tar.gz PackageFileSize: 3.005 MiB