Package: PCAtools Version: 2.16.0 Command: /Library/Frameworks/R.framework/Resources/bin/R CMD build --keep-empty-dirs --no-resave-data PCAtools StartedAt: 2024-10-16 21:58:20 -0400 (Wed, 16 Oct 2024) EndedAt: 2024-10-16 22:07:23 -0400 (Wed, 16 Oct 2024) EllapsedTime: 542.8 seconds RetCode: 0 Status: OK PackageFile: PCAtools_2.16.0.tar.gz PackageFileSize: 11.13 MiB