Package: PCAtools Version: 2.16.0 Command: rm -rf PCAtools.buildbin-libdir && mkdir PCAtools.buildbin-libdir && /Users/biocbuild/BBS/utils/build-universal.sh PCAtools_2.16.0.tar.gz /Library/Frameworks/R.framework/Resources/bin/R PCAtools.buildbin-libdir StartedAt: 2024-06-11 12:29:12 -0400 (Tue, 11 Jun 2024) EndedAt: 2024-06-11 12:30:23 -0400 (Tue, 11 Jun 2024) EllapsedTime: 70.7 seconds RetCode: 0 Status: OK PackageFile: PCAtools_2.16.0.tgz PackageFileSize: 5.902 MiB