Package: PCAtools Version: 2.16.0 Command: /Library/Frameworks/R.framework/Resources/bin/R CMD INSTALL PCAtools StartedAt: 2024-10-16 18:24:37 -0400 (Wed, 16 Oct 2024) EndedAt: 2024-10-16 18:25:15 -0400 (Wed, 16 Oct 2024) EllapsedTime: 37.7 seconds RetCode: 0 Status: OK