Package: PCAN Version: 1.32.0 Command: rm -rf PCAN.buildbin-libdir && mkdir PCAN.buildbin-libdir && E:\biocbuild\bbs-3.19-bioc\R\bin\R.exe CMD INSTALL --build --library=PCAN.buildbin-libdir PCAN_1.32.0.tar.gz StartedAt: 2024-10-17 08:19:53 -0400 (Thu, 17 Oct 2024) EndedAt: 2024-10-17 08:20:19 -0400 (Thu, 17 Oct 2024) EllapsedTime: 26.4 seconds RetCode: 0 Status: OK PackageFile: PCAN_1.32.0.zip PackageFileSize: 2.237 MiB