Package: PCAN Version: 1.32.0 Command: /Library/Frameworks/R.framework/Resources/bin/R CMD check --install=check:PCAN.install-out.txt --library=/Library/Frameworks/R.framework/Resources/library --no-vignettes --timings PCAN_1.32.0.tar.gz StartedAt: 2024-06-09 22:08:59 -0400 (Sun, 09 Jun 2024) EndedAt: 2024-06-09 22:13:09 -0400 (Sun, 09 Jun 2024) EllapsedTime: 250.6 seconds RetCode: 0 Status: OK CheckDir: PCAN.Rcheck Warnings: 0