Package: PAST Version: 1.20.0 Command: F:\biocbuild\bbs-3.19-bioc\R\bin\R.exe CMD check --no-multiarch --install=check:PAST.install-out.txt --library=F:\biocbuild\bbs-3.19-bioc\R\library --no-vignettes --timings PAST_1.20.0.tar.gz StartedAt: 2024-06-27 04:35:39 -0400 (Thu, 27 Jun 2024) EndedAt: 2024-06-27 04:44:56 -0400 (Thu, 27 Jun 2024) EllapsedTime: 556.8 seconds RetCode: 0 Status: WARNINGS CheckDir: PAST.Rcheck Warnings: 2