Package: PAST Version: 1.20.0 Command: chmod a+r PAST -R && F:\biocbuild\bbs-3.19-bioc\R\bin\R.exe CMD build --keep-empty-dirs --no-resave-data PAST StartedAt: 2024-06-26 20:51:59 -0400 (Wed, 26 Jun 2024) EndedAt: 2024-06-26 20:54:08 -0400 (Wed, 26 Jun 2024) EllapsedTime: 129.2 seconds RetCode: 0 Status: OK PackageFile: PAST_1.20.0.tar.gz PackageFileSize: 954.3 KiB