Package: PAST Version: 1.20.0 Command: /Library/Frameworks/R.framework/Resources/bin/R CMD build --keep-empty-dirs --no-resave-data PAST StartedAt: 2024-10-16 21:55:30 -0400 (Wed, 16 Oct 2024) EndedAt: 2024-10-16 22:02:25 -0400 (Wed, 16 Oct 2024) EllapsedTime: 415.1 seconds RetCode: 0 Status: OK PackageFile: PAST_1.20.0.tar.gz PackageFileSize: 954.2 KiB