Package: PAST Version: 1.20.0 Command: /Library/Frameworks/R.framework/Resources/bin/R CMD INSTALL PAST StartedAt: 2024-10-16 16:26:36 -0400 (Wed, 16 Oct 2024) EndedAt: 2024-10-16 16:27:15 -0400 (Wed, 16 Oct 2024) EllapsedTime: 38.5 seconds RetCode: 0 Status: OK