Package: PAIRADISE Version: 1.20.0 Command: E:\biocbuild\bbs-3.19-bioc\R\bin\R.exe CMD INSTALL PAIRADISE StartedAt: 2024-10-16 16:18:05 -0400 (Wed, 16 Oct 2024) EndedAt: 2024-10-16 16:18:33 -0400 (Wed, 16 Oct 2024) EllapsedTime: 28.3 seconds RetCode: 0 Status: OK