Package: PAIRADISE Version: 1.20.0 Command: rm -rf PAIRADISE.buildbin-libdir && mkdir PAIRADISE.buildbin-libdir && F:\biocbuild\bbs-3.19-bioc\R\bin\R.exe CMD INSTALL --build --library=PAIRADISE.buildbin-libdir PAIRADISE_1.20.0.tar.gz StartedAt: 2024-06-27 08:38:32 -0400 (Thu, 27 Jun 2024) EndedAt: 2024-06-27 08:39:11 -0400 (Thu, 27 Jun 2024) EllapsedTime: 38.8 seconds RetCode: 0 Status: OK PackageFile: PAIRADISE_1.20.0.zip PackageFileSize: 384.5 KiB