Package: PAIRADISE Version: 1.20.0 Command: /home/biocbuild/bbs-3.19-bioc/R/bin/R CMD build --keep-empty-dirs --no-resave-data PAIRADISE StartedAt: 2024-10-16 20:01:32 -0400 (Wed, 16 Oct 2024) EndedAt: 2024-10-16 20:02:41 -0400 (Wed, 16 Oct 2024) EllapsedTime: 69.2 seconds RetCode: 0 Status: OK PackageFile: PAIRADISE_1.20.0.tar.gz PackageFileSize: 320.7 KiB