Package: PAIRADISE Version: 1.20.0 Command: /home/biocbuild/R/R-beta-2024-04-15_r86425/bin/R CMD build --keep-empty-dirs --no-resave-data PAIRADISE StartedAt: 2024-05-09 02:21:32 -0000 (Thu, 09 May 2024) EndedAt: 2024-05-09 02:22:26 -0000 (Thu, 09 May 2024) EllapsedTime: 54.1 seconds RetCode: 0 Status: OK PackageFile: PAIRADISE_1.20.0.tar.gz PackageFileSize: 386.1 KiB