Package: PAIRADISE Version: 1.20.0 Command: /Library/Frameworks/R.framework/Resources/bin/R CMD check --install=check:PAIRADISE.install-out.txt --library=/Library/Frameworks/R.framework/Resources/library --no-vignettes --timings PAIRADISE_1.20.0.tar.gz StartedAt: 2024-10-18 06:55:38 -0400 (Fri, 18 Oct 2024) EndedAt: 2024-10-18 06:59:05 -0400 (Fri, 18 Oct 2024) EllapsedTime: 207.3 seconds RetCode: 0 Status: OK CheckDir: PAIRADISE.Rcheck Warnings: 0