Package: PAIRADISE Version: 1.20.0 Command: /Library/Frameworks/R.framework/Resources/bin/R CMD build --keep-empty-dirs --no-resave-data PAIRADISE StartedAt: 2024-10-17 06:07:19 -0400 (Thu, 17 Oct 2024) EndedAt: 2024-10-17 06:08:22 -0400 (Thu, 17 Oct 2024) EllapsedTime: 63.3 seconds RetCode: 0 Status: OK PackageFile: PAIRADISE_1.20.0.tar.gz PackageFileSize: 320.6 KiB