Package: PAIRADISE Version: 1.20.0 Command: rm -rf PAIRADISE.buildbin-libdir && mkdir PAIRADISE.buildbin-libdir && /Users/biocbuild/BBS/utils/build-universal.sh PAIRADISE_1.20.0.tar.gz /Library/Frameworks/R.framework/Resources/bin/R PAIRADISE.buildbin-libdir StartedAt: 2024-10-18 19:53:07 -0400 (Fri, 18 Oct 2024) EndedAt: 2024-10-18 19:53:37 -0400 (Fri, 18 Oct 2024) EllapsedTime: 30.1 seconds RetCode: 0 Status: OK PackageFile: PAIRADISE_1.20.0.tgz PackageFileSize: 382.2 KiB