Package: PADOG Version: 1.46.0 Command: F:\biocbuild\bbs-3.19-bioc\R\bin\R.exe CMD INSTALL PADOG StartedAt: 2024-06-26 16:01:37 -0400 (Wed, 26 Jun 2024) EndedAt: 2024-06-26 16:01:59 -0400 (Wed, 26 Jun 2024) EllapsedTime: 21.6 seconds RetCode: 0 Status: OK