Package: PADOG Version: 1.46.0 Command: /Library/Frameworks/R.framework/Resources/bin/R CMD build --keep-empty-dirs --no-resave-data PADOG StartedAt: 2024-10-16 21:51:24 -0400 (Wed, 16 Oct 2024) EndedAt: 2024-10-16 21:57:17 -0400 (Wed, 16 Oct 2024) EllapsedTime: 353.3 seconds RetCode: 0 Status: OK PackageFile: PADOG_1.46.0.tar.gz PackageFileSize: 369.5 KiB