Package: PADOG Version: 1.46.0 Command: /Library/Frameworks/R.framework/Resources/bin/R CMD check --install=check:PADOG.install-out.txt --library=/Library/Frameworks/R.framework/Resources/library --no-vignettes --timings PADOG_1.46.0.tar.gz StartedAt: 2024-06-11 00:45:08 -0400 (Tue, 11 Jun 2024) EndedAt: 2024-06-11 00:51:18 -0400 (Tue, 11 Jun 2024) EllapsedTime: 370.5 seconds RetCode: 0 Status: OK CheckDir: PADOG.Rcheck Warnings: 0