Package: PAA Version: 1.38.0 Command: E:\biocbuild\bbs-3.19-bioc\R\bin\R.exe CMD INSTALL PAA StartedAt: 2024-10-16 17:05:12 -0400 (Wed, 16 Oct 2024) EndedAt: 2024-10-16 17:06:12 -0400 (Wed, 16 Oct 2024) EllapsedTime: 60.2 seconds RetCode: 0 Status: OK