Package: PAA Version: 1.38.0 Command: chmod a+r PAA -R && E:\biocbuild\bbs-3.19-bioc\R\bin\R.exe CMD build --keep-empty-dirs --no-resave-data PAA StartedAt: 2024-10-16 20:53:45 -0400 (Wed, 16 Oct 2024) EndedAt: 2024-10-16 21:05:50 -0400 (Wed, 16 Oct 2024) EllapsedTime: 725.5 seconds RetCode: 0 Status: OK PackageFile: PAA_1.38.0.tar.gz PackageFileSize: 2.834 MiB