Package: OutSplice Version: 1.4.0 Command: /Library/Frameworks/R.framework/Resources/bin/R CMD build --keep-empty-dirs --no-resave-data OutSplice StartedAt: 2024-10-16 21:49:01 -0400 (Wed, 16 Oct 2024) EndedAt: 2024-10-16 21:53:57 -0400 (Wed, 16 Oct 2024) EllapsedTime: 295.9 seconds RetCode: 0 Status: OK PackageFile: OutSplice_1.4.0.tar.gz PackageFileSize: 3.862 MiB