Package: OutSplice Version: 1.4.0 Command: rm -rf OutSplice.buildbin-libdir && mkdir OutSplice.buildbin-libdir && /Users/biocbuild/BBS/utils/build-universal.sh OutSplice_1.4.0.tar.gz /Library/Frameworks/R.framework/Resources/bin/R OutSplice.buildbin-libdir StartedAt: 2024-10-17 16:47:41 -0400 (Thu, 17 Oct 2024) EndedAt: 2024-10-17 16:49:07 -0400 (Thu, 17 Oct 2024) EllapsedTime: 86.4 seconds RetCode: 0 Status: OK PackageFile: OutSplice_1.4.0.tgz PackageFileSize: 3.903 MiB