Package: OutSplice Version: 1.4.0 Command: /Library/Frameworks/R.framework/Resources/bin/R CMD build --keep-empty-dirs --no-resave-data OutSplice StartedAt: 2024-06-09 17:36:26 -0400 (Sun, 09 Jun 2024) EndedAt: 2024-06-09 17:39:00 -0400 (Sun, 09 Jun 2024) EllapsedTime: 153.2 seconds RetCode: 0 Status: OK PackageFile: OutSplice_1.4.0.tar.gz PackageFileSize: 3.862 MiB