Package: OutSplice Version: 1.4.0 Command: /Library/Frameworks/R.framework/Resources/bin/R CMD build --keep-empty-dirs --no-resave-data OutSplice StartedAt: 2024-06-10 02:08:30 -0400 (Mon, 10 Jun 2024) EndedAt: 2024-06-10 02:10:42 -0400 (Mon, 10 Jun 2024) EllapsedTime: 131.1 seconds RetCode: 0 Status: OK PackageFile: OutSplice_1.4.0.tar.gz PackageFileSize: 3.863 MiB