Package: OutSplice Version: 1.4.0 Command: /Library/Frameworks/R.framework/Resources/bin/R CMD build --keep-empty-dirs --no-resave-data OutSplice StartedAt: 2024-10-17 06:02:41 -0400 (Thu, 17 Oct 2024) EndedAt: 2024-10-17 06:04:19 -0400 (Thu, 17 Oct 2024) EllapsedTime: 98.0 seconds RetCode: 0 Status: OK PackageFile: OutSplice_1.4.0.tar.gz PackageFileSize: 3.863 MiB