Package: OutSplice Version: 1.4.0 Command: rm -rf OutSplice.buildbin-libdir && mkdir OutSplice.buildbin-libdir && /Users/biocbuild/BBS/utils/build-universal.sh OutSplice_1.4.0.tar.gz /Library/Frameworks/R.framework/Resources/bin/R OutSplice.buildbin-libdir StartedAt: 2024-10-18 19:52:18 -0400 (Fri, 18 Oct 2024) EndedAt: 2024-10-18 19:53:12 -0400 (Fri, 18 Oct 2024) EllapsedTime: 53.3 seconds RetCode: 0 Status: OK PackageFile: OutSplice_1.4.0.tgz PackageFileSize: 3.904 MiB