Package: Oscope Version: 1.34.0 Command: E:\biocbuild\bbs-3.19-bioc\R\bin\R.exe CMD check --no-multiarch --install=check:Oscope.install-out.txt --library=E:\biocbuild\bbs-3.19-bioc\R\library --no-vignettes --timings Oscope_1.34.0.tar.gz StartedAt: 2024-10-17 04:11:45 -0400 (Thu, 17 Oct 2024) EndedAt: 2024-10-17 04:13:17 -0400 (Thu, 17 Oct 2024) EllapsedTime: 91.6 seconds RetCode: 0 Status: OK CheckDir: Oscope.Rcheck Warnings: 0