Package: Oscope Version: 1.34.0 Command: rm -rf Oscope.buildbin-libdir && mkdir Oscope.buildbin-libdir && /Users/biocbuild/BBS/utils/build-universal.sh Oscope_1.34.0.tar.gz /Library/Frameworks/R.framework/Resources/bin/R Oscope.buildbin-libdir StartedAt: 2024-10-17 16:47:31 -0400 (Thu, 17 Oct 2024) EndedAt: 2024-10-17 16:47:50 -0400 (Thu, 17 Oct 2024) EllapsedTime: 18.4 seconds RetCode: 0 Status: OK PackageFile: Oscope_1.34.0.tgz PackageFileSize: 849.8 KiB