Package: Oscope Version: 1.34.0 Command: rm -rf Oscope.buildbin-libdir && mkdir Oscope.buildbin-libdir && /Users/biocbuild/BBS/utils/build-universal.sh Oscope_1.34.0.tar.gz /Library/Frameworks/R.framework/Resources/bin/R Oscope.buildbin-libdir StartedAt: 2024-10-18 19:52:08 -0400 (Fri, 18 Oct 2024) EndedAt: 2024-10-18 19:52:19 -0400 (Fri, 18 Oct 2024) EllapsedTime: 11.5 seconds RetCode: 0 Status: OK PackageFile: Oscope_1.34.0.tgz PackageFileSize: 849.3 KiB