Package: OrganismDbi Version: 1.46.0 Command: E:\biocbuild\bbs-3.19-bioc\R\bin\R.exe CMD check --no-multiarch --install=check:OrganismDbi.install-out.txt --library=E:\biocbuild\bbs-3.19-bioc\R\library --no-vignettes --timings OrganismDbi_1.46.0.tar.gz StartedAt: 2024-10-17 04:11:04 -0400 (Thu, 17 Oct 2024) EndedAt: 2024-10-17 04:22:35 -0400 (Thu, 17 Oct 2024) EllapsedTime: 690.4 seconds RetCode: 1 Status: ERROR CheckDir: OrganismDbi.Rcheck Warnings: NA