Package: OrganismDbi Version: 1.46.0 Command: chmod a+r OrganismDbi -R && E:\biocbuild\bbs-3.19-bioc\R\bin\R.exe CMD build --keep-empty-dirs --no-resave-data OrganismDbi StartedAt: 2024-10-16 20:50:55 -0400 (Wed, 16 Oct 2024) EndedAt: 2024-10-16 20:52:37 -0400 (Wed, 16 Oct 2024) EllapsedTime: 102.0 seconds RetCode: 0 Status: OK PackageFile: OrganismDbi_1.46.0.tar.gz PackageFileSize: 387.5 KiB