Package: OrganismDbi Version: 1.46.0 Command: rm -rf OrganismDbi.buildbin-libdir && mkdir OrganismDbi.buildbin-libdir && F:\biocbuild\bbs-3.19-bioc\R\bin\R.exe CMD INSTALL --build --library=OrganismDbi.buildbin-libdir OrganismDbi_1.46.0.tar.gz StartedAt: 2024-06-27 08:38:03 -0400 (Thu, 27 Jun 2024) EndedAt: 2024-06-27 08:39:19 -0400 (Thu, 27 Jun 2024) EllapsedTime: 76.0 seconds RetCode: 0 Status: OK PackageFile: OrganismDbi_1.46.0.zip PackageFileSize: 779.5 KiB