Package: OrganismDbi Version: 1.46.0 Command: /home/biocbuild/bbs-3.19-bioc/R/bin/R CMD build --keep-empty-dirs --no-resave-data OrganismDbi StartedAt: 2024-10-16 19:56:24 -0400 (Wed, 16 Oct 2024) EndedAt: 2024-10-16 19:58:46 -0400 (Wed, 16 Oct 2024) EllapsedTime: 142.4 seconds RetCode: 0 Status: OK PackageFile: OrganismDbi_1.46.0.tar.gz PackageFileSize: 387.3 KiB