Package: OrganismDbi Version: 1.46.0 Command: /Library/Frameworks/R.framework/Resources/bin/R CMD build --keep-empty-dirs --no-resave-data OrganismDbi StartedAt: 2024-10-16 21:47:47 -0400 (Wed, 16 Oct 2024) EndedAt: 2024-10-16 21:51:22 -0400 (Wed, 16 Oct 2024) EllapsedTime: 215.8 seconds RetCode: 0 Status: OK PackageFile: OrganismDbi_1.46.0.tar.gz PackageFileSize: 387.3 KiB