Package: OrganismDbi Version: 1.46.0 Command: rm -rf OrganismDbi.buildbin-libdir && mkdir OrganismDbi.buildbin-libdir && /Users/biocbuild/BBS/utils/build-universal.sh OrganismDbi_1.46.0.tar.gz /Library/Frameworks/R.framework/Resources/bin/R OrganismDbi.buildbin-libdir StartedAt: 2024-10-17 16:47:18 -0400 (Thu, 17 Oct 2024) EndedAt: 2024-10-17 16:49:01 -0400 (Thu, 17 Oct 2024) EllapsedTime: 103.0 seconds RetCode: 0 Status: OK PackageFile: OrganismDbi_1.46.0.tgz PackageFileSize: 771.9 KiB