Package: OrganismDbi Version: 1.46.0 Command: /Library/Frameworks/R.framework/Resources/bin/R CMD check --install=check:OrganismDbi.install-out.txt --library=/Library/Frameworks/R.framework/Resources/library --no-vignettes --timings OrganismDbi_1.46.0.tar.gz StartedAt: 2024-06-09 22:01:30 -0400 (Sun, 09 Jun 2024) EndedAt: 2024-06-09 22:13:11 -0400 (Sun, 09 Jun 2024) EllapsedTime: 700.8 seconds RetCode: 1 Status: ERROR CheckDir: OrganismDbi.Rcheck Warnings: NA