Package: OrganismDbi Version: 1.46.0 Command: /Library/Frameworks/R.framework/Resources/bin/R CMD check --install=check:OrganismDbi.install-out.txt --library=/Library/Frameworks/R.framework/Resources/library --no-vignettes --timings OrganismDbi_1.46.0.tar.gz StartedAt: 2024-06-11 00:30:35 -0400 (Tue, 11 Jun 2024) EndedAt: 2024-06-11 00:47:17 -0400 (Tue, 11 Jun 2024) EllapsedTime: 1002.2 seconds RetCode: 1 Status: ERROR CheckDir: OrganismDbi.Rcheck Warnings: NA