Package: OrganismDbi Version: 1.46.0 Command: /Library/Frameworks/R.framework/Resources/bin/R CMD check --install=check:OrganismDbi.install-out.txt --library=/Library/Frameworks/R.framework/Resources/library --no-vignettes --timings OrganismDbi_1.46.0.tar.gz StartedAt: 2024-10-18 06:41:19 -0400 (Fri, 18 Oct 2024) EndedAt: 2024-10-18 06:53:23 -0400 (Fri, 18 Oct 2024) EllapsedTime: 724.2 seconds RetCode: 0 Status: OK CheckDir: OrganismDbi.Rcheck Warnings: 0