Package: Organism.dplyr Version: 1.32.0 Command: E:\biocbuild\bbs-3.19-bioc\R\bin\R.exe CMD INSTALL Organism.dplyr StartedAt: 2024-10-16 16:28:47 -0400 (Wed, 16 Oct 2024) EndedAt: 2024-10-16 16:30:06 -0400 (Wed, 16 Oct 2024) EllapsedTime: 78.9 seconds RetCode: 0 Status: OK